BEGIN:VCALENDAR
VERSION:2.0
PRODID:-//eventon.com NONSGML v1.0//EN
CALSCALE:GREGORIAN
METHOD:PUBLISH
BEGIN:VEVENT
UID:69ea6d45e12a8
DTSTAMP:20260423T190437Z
DTSTART:20260516T120000Z
DTEND:20260516T180000Z
LOCATION:Holland Farmers Market 150 W 8th Street
SUMMARY:Holland Farmer's Market 2026 Season - Saturdays
DESCRIPTION:The Holland Farmer&#8217;s Market in Michigan has been ranked t
 he top farmers market in the state on TripAdvisor\,  and we are honored tha
 t our lavender farm has been selected to be one of the over 75 farmers and 
 vendors participating in this prestigious open air market. As one of the[..
 ]\nhttps://twinflamelavender.farm/Twin Flame Lavender Farm Events/holland-f
 armers-market-2026-season-saturdays/
URL:https://twinflamelavender.farm/Twin Flame Lavender Farm Events/holland-farmers-market-2026-season-saturdays/
END:VEVENT
END:VCALENDAR